
BEGIN:VCALENDAR
VERSION:2.0
PRODID:-//85.13.157.133//NONSGML kigkonsult.se iCalcreator 2.20//
CALSCALE:GREGORIAN
METHOD:PUBLISH
X-WR-TIMEZONE:Europe/Berlin
BEGIN:VEVENT
UID:event3666@NaturFreunde Bielefeld e.V.
DTSTAMP:20260419T183452Z
CATEGORIES:Wanderungen
DESCRIPTION:Rundwanderung durch's Wiehengebirge im Bereich Lübbecke\, \nKat
 egorie: Wanderungen\nICS-Link: https://www.test.naturfreunde-bielefeld.de/
 index.php?option=com_jem&view=event&id=3666:rundwanderung-durchs-wiehengeb
 irge-im-bereich-la-1-4bbecke\n
DTSTART;VALUE=DATE:20251101
DTEND;VALUE=DATE:20251102
SUMMARY:Rundwanderung durch's Wiehengebirge im Bereich Lübbecke\, 
URL:https://www.test.naturfreunde-bielefeld.de/index.php?option=com_jem&vie
 w=event&id=3666:rundwanderung-durchs-wiehengebirge-im-bereich-la-1-4bbecke
END:VEVENT
END:VCALENDAR
