
BEGIN:VCALENDAR
VERSION:2.0
PRODID:-//85.13.157.133//NONSGML kigkonsult.se iCalcreator 2.20//
CALSCALE:GREGORIAN
METHOD:PUBLISH
X-WR-TIMEZONE:Europe/Berlin
BEGIN:VEVENT
UID:event3687@NaturFreunde Bielefeld e.V.
DTSTAMP:20260419T183618Z
CATEGORIES:Wanderungen
DESCRIPTION:Nikolaus-Kurzwanderung auf dem Patthorster Hexenpatt\, Steinhag
 en\, \nKategorie: Wanderungen\nICS-Link: https://www.test.naturfreunde-bie
 lefeld.de/index.php?option=com_jem&view=event&id=3687:nikolaus-kurzwanderu
 ng-auf-dem-patthorster-hexenpatt-steinhagen\n
DTSTART;VALUE=DATE:20251206
DTEND;VALUE=DATE:20251207
SUMMARY:Nikolaus-Kurzwanderung auf dem Patthorster Hexenpatt\, Steinhagen\,
  
URL:https://www.test.naturfreunde-bielefeld.de/index.php?option=com_jem&vie
 w=event&id=3687:nikolaus-kurzwanderung-auf-dem-patthorster-hexenpatt-stein
 hagen
END:VEVENT
END:VCALENDAR
