
BEGIN:VCALENDAR
VERSION:2.0
PRODID:-//85.13.157.133//NONSGML kigkonsult.se iCalcreator 2.20//
CALSCALE:GREGORIAN
METHOD:PUBLISH
X-WR-TIMEZONE:Europe/Berlin
BEGIN:VEVENT
UID:event3757@NaturFreunde Bielefeld e.V.
DTSTAMP:20260419T131506Z
CATEGORIES:Kultur
DESCRIPTION:Der Hanseatenweg - eine Brücke der Völkerverständigung.\nKatego
 rie: Kultur\nICS-Link: https://www.test.naturfreunde-bielefeld.de/index.ph
 p?option=com_jem&view=event&id=3757:der-hanseatenweg-eine-bruecke-der-voel
 kerverstaendigung\n
DTSTART;VALUE=DATE:20260417
DTEND;VALUE=DATE:20260418
SUMMARY:Der Hanseatenweg - eine Brücke der Völkerverständigung.
URL:https://www.test.naturfreunde-bielefeld.de/index.php?option=com_jem&vie
 w=event&id=3757:der-hanseatenweg-eine-bruecke-der-voelkerverstaendigung
END:VEVENT
BEGIN:VEVENT
UID:event3758@NaturFreunde Bielefeld e.V.
DTSTAMP:20260419T131506Z
CATEGORIES:Kultur
DESCRIPTION:Paderborner Höhenweg\, Panoramatour rund um Neuenbeken\, ca. 21
  km\,\nKategorie: Kultur\nICS-Link: https://www.test.naturfreunde-bielefel
 d.de/index.php?option=com_jem&view=event&id=3758:paderborner-hoehenweg-pan
 oramatour-rund-um-neuenbeken-ca-21-km\n
DTSTART;VALUE=DATE:20260418
DTEND;VALUE=DATE:20260419
SUMMARY:Paderborner Höhenweg\, Panoramatour rund um Neuenbeken\, ca. 21 km\
 ,
URL:https://www.test.naturfreunde-bielefeld.de/index.php?option=com_jem&vie
 w=event&id=3758:paderborner-hoehenweg-panoramatour-rund-um-neuenbeken-ca-2
 1-km
END:VEVENT
BEGIN:VEVENT
UID:event3754@NaturFreunde Bielefeld e.V.
DTSTAMP:20260419T131506Z
CATEGORIES:Kultur
DESCRIPTION:Seniorenspaziergang mit Annegret Höke durch den Grünzug in Schi
 ldesche zu Cafe Lamm Westerfeldstr.\nKategorie: Kultur\nICS-Link: https://
 www.test.naturfreunde-bielefeld.de/index.php?option=com_jem&view=event&id=
 3754:seniorenspaziergang-mit-annegret-hoeke-durch-den-gruenzug-in-schildes
 che-zu-cafe-lamm-westerfeldstr\n
DTSTART;VALUE=DATE:20260415
DTEND;VALUE=DATE:20260416
SUMMARY:Seniorenspaziergang mit Annegret Höke durch den Grünzug in Schildes
 che zu Cafe Lamm Westerfeldstr.
URL:https://www.test.naturfreunde-bielefeld.de/index.php?option=com_jem&vie
 w=event&id=3754:seniorenspaziergang-mit-annegret-hoeke-durch-den-gruenzug-
 in-schildesche-zu-cafe-lamm-westerfeldstr
END:VEVENT
END:VCALENDAR
