
BEGIN:VCALENDAR
VERSION:2.0
PRODID:-//85.13.157.133//NONSGML kigkonsult.se iCalcreator 2.20//
CALSCALE:GREGORIAN
METHOD:PUBLISH
X-WR-TIMEZONE:Europe/Berlin
BEGIN:VEVENT
UID:event3764@NaturFreunde Bielefeld e.V.
DTSTAMP:20260419T131609Z
CATEGORIES:Ortsgruppe
DESCRIPTION:Senioren-Kaffeenachmittag um 15.00 Uhr im NFH Heepen\, Heeper S
 tr.364.\; Anschließend berichtet Willi Wächter von seiner MTB-Rundreise um
  die 'Drei Zinnen'.\nKategorie: Ortsgruppe\nICS-Link: https://www.test.nat
 urfreunde-bielefeld.de/index.php?option=com_jem&view=event&id=3764:seniore
 n-kaffeenachmittag-um-15-00-uhr-im-nfh-heepen-heeper-str-364-anschliessend
 -berichtet-willi-waechter-von-seiner-mtb-rundreise-um-die-drei-zinnen\n
DTSTART;VALUE=DATE:20260429
DTEND;VALUE=DATE:20260430
SUMMARY:Senioren-Kaffeenachmittag um 15.00 Uhr im NFH Heepen\, Heeper Str.3
 64.\; Anschließend berichtet Willi Wächter von seiner MTB-Rundreise um die
  'Drei Zinnen'.
URL:https://www.test.naturfreunde-bielefeld.de/index.php?option=com_jem&vie
 w=event&id=3764:senioren-kaffeenachmittag-um-15-00-uhr-im-nfh-heepen-heepe
 r-str-364-anschliessend-berichtet-willi-waechter-von-seiner-mtb-rundreise-
 um-die-drei-zinnen
END:VEVENT
BEGIN:VEVENT
UID:event3763@NaturFreunde Bielefeld e.V.
DTSTAMP:20260419T131609Z
CATEGORIES:Ortsgruppe
DESCRIPTION:Vom Ölbach zum Furlbach. Eine Wanderung auf dem Sennerundweg in
  Stukenbrock\, Länge  ca. 15 km\,\nKategorie: Ortsgruppe\nICS-Link: https:
 //www.test.naturfreunde-bielefeld.de/index.php?option=com_jem&view=event&i
 d=3763:vom-oelbach-zum-furlbach-eine-wanderung-auf-dem-sennerundweg-in-stu
 kenbrock-laenge-ca-15-km\n
DTSTART;VALUE=DATE:20260426
DTEND;VALUE=DATE:20260427
SUMMARY:Vom Ölbach zum Furlbach. Eine Wanderung auf dem Sennerundweg in Stu
 kenbrock\, Länge  ca. 15 km\,
URL:https://www.test.naturfreunde-bielefeld.de/index.php?option=com_jem&vie
 w=event&id=3763:vom-oelbach-zum-furlbach-eine-wanderung-auf-dem-sennerundw
 eg-in-stukenbrock-laenge-ca-15-km
END:VEVENT
END:VCALENDAR
