
BEGIN:VCALENDAR
VERSION:2.0
PRODID:-//85.13.157.133//NONSGML kigkonsult.se iCalcreator 2.20//
CALSCALE:GREGORIAN
METHOD:PUBLISH
X-WR-TIMEZONE:Europe/Berlin
BEGIN:VEVENT
UID:event3670@NaturFreunde Bielefeld e.V.
DTSTAMP:20260419T164104Z
CATEGORIES:Senioren
DESCRIPTION:Spielenachmittag ab 16 Uhr im NFH Heepen\, Heeper Str. 364\, \n
 Kategorie: Senioren\nICS-Link: https://www.test.naturfreunde-bielefeld.de/
 index.php?option=com_jem&view=event&id=3670:spielenachmittag-ab-16-uhr-im-
 nfh-heepen-heeper-str-364\n
DTSTART;VALUE=DATE:20251107
DTEND;VALUE=DATE:20251108
SUMMARY:Spielenachmittag ab 16 Uhr im NFH Heepen\, Heeper Str. 364\, 
URL:https://www.test.naturfreunde-bielefeld.de/index.php?option=com_jem&vie
 w=event&id=3670:spielenachmittag-ab-16-uhr-im-nfh-heepen-heeper-str-364
END:VEVENT
END:VCALENDAR
