
BEGIN:VCALENDAR
VERSION:2.0
PRODID:-//85.13.157.133//NONSGML kigkonsult.se iCalcreator 2.20//
CALSCALE:GREGORIAN
METHOD:PUBLISH
X-WR-TIMEZONE:Europe/Berlin
BEGIN:VEVENT
UID:event3671@NaturFreunde Bielefeld e.V.
DTSTAMP:20260419T145240Z
CATEGORIES:Wanderungen
DESCRIPTION:Wanderung auf dem Gustav-Mesch-Weg von Detmold nach Horn-Bad Me
 inberg\, \nKategorie: Wanderungen\nICS-Link: https://www.test.naturfreunde
 -bielefeld.de/index.php?option=com_jem&view=event&id=3671:wanderung-auf-de
 m-gustav-mesch-weg-von-detmold-nach-horn-bad-meinberg\n
DTSTART;VALUE=DATE:20251108
DTEND;VALUE=DATE:20251109
SUMMARY:Wanderung auf dem Gustav-Mesch-Weg von Detmold nach Horn-Bad Meinbe
 rg\, 
URL:https://www.test.naturfreunde-bielefeld.de/index.php?option=com_jem&vie
 w=event&id=3671:wanderung-auf-dem-gustav-mesch-weg-von-detmold-nach-horn-b
 ad-meinberg
END:VEVENT
END:VCALENDAR
