
BEGIN:VCALENDAR
VERSION:2.0
PRODID:-//85.13.157.133//NONSGML kigkonsult.se iCalcreator 2.20//
CALSCALE:GREGORIAN
METHOD:PUBLISH
X-WR-TIMEZONE:Europe/Berlin
BEGIN:VEVENT
UID:event3673@NaturFreunde Bielefeld e.V.
DTSTAMP:20260419T145154Z
CATEGORIES:Wanderungen
DESCRIPTION:Rundwanderung vom P Entenkrug am Norderteich\, ca. 15 km\, \nKa
 tegorie: Wanderungen\nICS-Link: https://www.test.naturfreunde-bielefeld.de
 /index.php?option=com_jem&view=event&id=3673:rundwanderung-vom-p-entenkrug
 -am-norderteich-ca-15-km\n
DTSTART;VALUE=DATE:20251115
DTEND;VALUE=DATE:20251116
SUMMARY:Rundwanderung vom P Entenkrug am Norderteich\, ca. 15 km\, 
URL:https://www.test.naturfreunde-bielefeld.de/index.php?option=com_jem&vie
 w=event&id=3673:rundwanderung-vom-p-entenkrug-am-norderteich-ca-15-km
END:VEVENT
END:VCALENDAR
