
BEGIN:VCALENDAR
VERSION:2.0
PRODID:-//85.13.157.133//NONSGML kigkonsult.se iCalcreator 2.20//
CALSCALE:GREGORIAN
METHOD:PUBLISH
X-WR-TIMEZONE:Europe/Berlin
BEGIN:VEVENT
UID:event3674@NaturFreunde Bielefeld e.V.
DTSTAMP:20260419T145256Z
CATEGORIES:Kanu
DESCRIPTION:Unsere jährliche Fahrradtour soll uns in diesem Jahr ein Stück 
 an der Weser entlang führen. \nKategorie: Kanu\nICS-Link: https://www.test
 .naturfreunde-bielefeld.de/index.php?option=com_jem&view=event&id=3674:uns
 ere-ja-hrliche-fahrradtour-soll-uns-in-diesem-jahr-ein-sta-1-4ck-an-der-we
 ser-entlang-fa-1-4hren\n
DTSTART;VALUE=DATE:20251115
DTEND;VALUE=DATE:20251116
SUMMARY:Unsere jährliche Fahrradtour soll uns in diesem Jahr ein Stück an d
 er Weser entlang führen. 
URL:https://www.test.naturfreunde-bielefeld.de/index.php?option=com_jem&vie
 w=event&id=3674:unsere-ja-hrliche-fahrradtour-soll-uns-in-diesem-jahr-ein-
 sta-1-4ck-an-der-weser-entlang-fa-1-4hren
END:VEVENT
END:VCALENDAR
