
BEGIN:VCALENDAR
VERSION:2.0
PRODID:-//85.13.157.133//NONSGML kigkonsult.se iCalcreator 2.20//
CALSCALE:GREGORIAN
METHOD:PUBLISH
X-WR-TIMEZONE:Europe/Berlin
BEGIN:VEVENT
UID:event3675@NaturFreunde Bielefeld e.V.
DTSTAMP:20260419T145826Z
CATEGORIES:Senioren
DESCRIPTION:Seniorenspaziergang durch die Bielefelder Altstadt mit Kaffeeab
 schluss. \nKategorie: Senioren\nICS-Link: https://www.test.naturfreunde-bi
 elefeld.de/index.php?option=com_jem&view=event&id=3675:seniorenspaziergang
 -durch-die-bielefelder-altstadt-mit-kaffeeabschluss\n
DTSTART;VALUE=DATE:20251119
DTEND;VALUE=DATE:20251120
SUMMARY:Seniorenspaziergang durch die Bielefelder Altstadt mit Kaffeeabschl
 uss. 
URL:https://www.test.naturfreunde-bielefeld.de/index.php?option=com_jem&vie
 w=event&id=3675:seniorenspaziergang-durch-die-bielefelder-altstadt-mit-kaf
 feeabschluss
END:VEVENT
END:VCALENDAR
