
BEGIN:VCALENDAR
VERSION:2.0
PRODID:-//85.13.157.133//NONSGML kigkonsult.se iCalcreator 2.20//
CALSCALE:GREGORIAN
METHOD:PUBLISH
X-WR-TIMEZONE:Europe/Berlin
BEGIN:VEVENT
UID:event3677@NaturFreunde Bielefeld e.V.
DTSTAMP:20260419T150109Z
CATEGORIES:Nordic Walking
DESCRIPTION:Nordic Walking auf unserer Lieblingsstrecke\, Treff um 10 Uhr a
 uf dem Wanderparkplatz Bullerbeke bei Sennestadt\, \nKategorie: Nordic Wal
 king\nICS-Link: https://www.test.naturfreunde-bielefeld.de/index.php?optio
 n=com_jem&view=event&id=3677:nordic-walking-auf-unserer-lieblingsstrecke-t
 reff-um-10-uhr-auf-dem-wanderparkplatz-bullerbeke-bei-sennestadt\n
DTSTART;VALUE=DATE:20251123
DTEND;VALUE=DATE:20251124
SUMMARY:Nordic Walking auf unserer Lieblingsstrecke\, Treff um 10 Uhr auf d
 em Wanderparkplatz Bullerbeke bei Sennestadt\, 
URL:https://www.test.naturfreunde-bielefeld.de/index.php?option=com_jem&vie
 w=event&id=3677:nordic-walking-auf-unserer-lieblingsstrecke-treff-um-10-uh
 r-auf-dem-wanderparkplatz-bullerbeke-bei-sennestadt
END:VEVENT
END:VCALENDAR
