
BEGIN:VCALENDAR
VERSION:2.0
PRODID:-//85.13.157.133//NONSGML kigkonsult.se iCalcreator 2.20//
CALSCALE:GREGORIAN
METHOD:PUBLISH
X-WR-TIMEZONE:Europe/Berlin
BEGIN:VEVENT
UID:event3679@NaturFreunde Bielefeld e.V.
DTSTAMP:20260419T145625Z
CATEGORIES:Kultur
DESCRIPTION:Klimafonds NF International: \nKategorie: Kultur\nICS-Link: htt
 ps://www.test.naturfreunde-bielefeld.de/index.php?option=com_jem&view=even
 t&id=3679:klimafonds-nf-international\n
DTSTART;VALUE=DATE:20251128
DTEND;VALUE=DATE:20251129
SUMMARY:Klimafonds NF International: 
URL:https://www.test.naturfreunde-bielefeld.de/index.php?option=com_jem&vie
 w=event&id=3679:klimafonds-nf-international
END:VEVENT
END:VCALENDAR
