
BEGIN:VCALENDAR
VERSION:2.0
PRODID:-//85.13.157.133//NONSGML kigkonsult.se iCalcreator 2.20//
CALSCALE:GREGORIAN
METHOD:PUBLISH
X-WR-TIMEZONE:Europe/Berlin
BEGIN:VEVENT
UID:event3680@NaturFreunde Bielefeld e.V.
DTSTAMP:20260419T145735Z
CATEGORIES:Kanu
DESCRIPTION:Weihnachtsfeier der Kanugruppe im NFH Oerlinghausen. \nKategori
 e: Kanu\nICS-Link: https://www.test.naturfreunde-bielefeld.de/index.php?op
 tion=com_jem&view=event&id=3680:weihnachtsfeier-der-kanugruppe-im-nfh-oerl
 inghausen\n
DTSTART;VALUE=DATE:20251129
DTEND;VALUE=DATE:20251201
SUMMARY:Weihnachtsfeier der Kanugruppe im NFH Oerlinghausen. 
URL:https://www.test.naturfreunde-bielefeld.de/index.php?option=com_jem&vie
 w=event&id=3680:weihnachtsfeier-der-kanugruppe-im-nfh-oerlinghausen
END:VEVENT
END:VCALENDAR
