
BEGIN:VCALENDAR
VERSION:2.0
PRODID:-//85.13.157.133//NONSGML kigkonsult.se iCalcreator 2.20//
CALSCALE:GREGORIAN
METHOD:PUBLISH
X-WR-TIMEZONE:Europe/Berlin
BEGIN:VEVENT
UID:event3682@NaturFreunde Bielefeld e.V.
DTSTAMP:20260419T164044Z
CATEGORIES:Kultur
DESCRIPTION:BINGO mit Bärbel. Eine spezielle Spielart eines Traditionsspiel
 s. \nKategorie: Kultur\nICS-Link: https://www.test.naturfreunde-bielefeld.
 de/index.php?option=com_jem&view=event&id=3682:bingo-mit-ba-rbel-eine-spez
 ielle-spielart-eines-traditionsspiels\n
DTSTART;VALUE=DATE:20251205
DTEND;VALUE=DATE:20251206
SUMMARY:BINGO mit Bärbel. Eine spezielle Spielart eines Traditionsspiels. 
URL:https://www.test.naturfreunde-bielefeld.de/index.php?option=com_jem&vie
 w=event&id=3682:bingo-mit-ba-rbel-eine-spezielle-spielart-eines-traditions
 spiels
END:VEVENT
END:VCALENDAR
