
BEGIN:VCALENDAR
VERSION:2.0
PRODID:-//85.13.157.133//NONSGML kigkonsult.se iCalcreator 2.20//
CALSCALE:GREGORIAN
METHOD:PUBLISH
X-WR-TIMEZONE:Europe/Berlin
BEGIN:VEVENT
UID:event3683@NaturFreunde Bielefeld e.V.
DTSTAMP:20260419T182004Z
CATEGORIES:Computer
DESCRIPTION:Computertreff im Meierhof Heepen. \nKategorie: Computer\nICS-Li
 nk: https://www.test.naturfreunde-bielefeld.de/index.php?option=com_jem&vi
 ew=event&id=3683:computertreff-im-meierhof-heepen\n
DTSTART;VALUE=DATE:20251205
DTEND;VALUE=DATE:20251206
SUMMARY:Computertreff im Meierhof Heepen. 
URL:https://www.test.naturfreunde-bielefeld.de/index.php?option=com_jem&vie
 w=event&id=3683:computertreff-im-meierhof-heepen
END:VEVENT
END:VCALENDAR
