
BEGIN:VCALENDAR
VERSION:2.0
PRODID:-//85.13.157.133//NONSGML kigkonsult.se iCalcreator 2.20//
CALSCALE:GREGORIAN
METHOD:PUBLISH
X-WR-TIMEZONE:Europe/Berlin
BEGIN:VEVENT
UID:event3686@NaturFreunde Bielefeld e.V.
DTSTAMP:20260419T164150Z
CATEGORIES:Jugend
DESCRIPTION:Düsterwaldwochenende in Oerlinghausen. Alter ab 10 Jahren. \nKa
 tegorie: Jugend\nICS-Link: https://www.test.naturfreunde-bielefeld.de/inde
 x.php?option=com_jem&view=event&id=3686:da-1-4sterwaldwochenende-in-oerlin
 ghausen-alter-ab-10-jahren\n
DTSTART;VALUE=DATE:20251206
DTEND;VALUE=DATE:20251208
SUMMARY:Düsterwaldwochenende in Oerlinghausen. Alter ab 10 Jahren. 
URL:https://www.test.naturfreunde-bielefeld.de/index.php?option=com_jem&vie
 w=event&id=3686:da-1-4sterwaldwochenende-in-oerlinghausen-alter-ab-10-jahr
 en
END:VEVENT
END:VCALENDAR
