
BEGIN:VCALENDAR
VERSION:2.0
PRODID:-//85.13.157.133//NONSGML kigkonsult.se iCalcreator 2.20//
CALSCALE:GREGORIAN
METHOD:PUBLISH
X-WR-TIMEZONE:Europe/Berlin
BEGIN:VEVENT
UID:event3690@NaturFreunde Bielefeld e.V.
DTSTAMP:20260421T090026Z
CATEGORIES:Kultur
DESCRIPTION:Musik-Abend mit Rolf: Lieder der deutschen Revolution. \nKatego
 rie: Kultur\nICS-Link: https://www.test.naturfreunde-bielefeld.de/index.ph
 p?option=com_jem&view=event&id=3690:musik-abend-mit-rolf-lieder-der-deutsc
 hen-revolution\n
DTSTART;VALUE=DATE:20251212
DTEND;VALUE=DATE:20251213
SUMMARY:Musik-Abend mit Rolf: Lieder der deutschen Revolution. 
URL:https://www.test.naturfreunde-bielefeld.de/index.php?option=com_jem&vie
 w=event&id=3690:musik-abend-mit-rolf-lieder-der-deutschen-revolution
END:VEVENT
END:VCALENDAR
