
BEGIN:VCALENDAR
VERSION:2.0
PRODID:-//85.13.157.133//NONSGML kigkonsult.se iCalcreator 2.20//
CALSCALE:GREGORIAN
METHOD:PUBLISH
X-WR-TIMEZONE:Europe/Berlin
BEGIN:VEVENT
UID:event3691@NaturFreunde Bielefeld e.V.
DTSTAMP:20260419T164615Z
CATEGORIES:Wanderungen
DESCRIPTION:Wanderung auf dem X8 von Kirchlengern zum Weihnachtsmarkt nach 
 Bad Oeynhausen\, ca. 15 km\, \nKategorie: Wanderungen\nICS-Link: https://w
 ww.test.naturfreunde-bielefeld.de/index.php?option=com_jem&view=event&id=3
 691:wanderung-auf-dem-x8-von-kirchlengern-zum-weihnachtsmarkt-nach-bad-oey
 nhausen-ca-15-km\n
DTSTART;VALUE=DATE:20251213
DTEND;VALUE=DATE:20251214
SUMMARY:Wanderung auf dem X8 von Kirchlengern zum Weihnachtsmarkt nach Bad 
 Oeynhausen\, ca. 15 km\, 
URL:https://www.test.naturfreunde-bielefeld.de/index.php?option=com_jem&vie
 w=event&id=3691:wanderung-auf-dem-x8-von-kirchlengern-zum-weihnachtsmarkt-
 nach-bad-oeynhausen-ca-15-km
END:VEVENT
END:VCALENDAR
