
BEGIN:VCALENDAR
VERSION:2.0
PRODID:-//85.13.157.133//NONSGML kigkonsult.se iCalcreator 2.20//
CALSCALE:GREGORIAN
METHOD:PUBLISH
X-WR-TIMEZONE:Europe/Berlin
BEGIN:VEVENT
UID:event3693@NaturFreunde Bielefeld e.V.
DTSTAMP:20260419T145841Z
CATEGORIES:Senioren
DESCRIPTION:Senioren-Adventskaffee um 15 Uhr im NFH Heepen\, Heeper str. 36
 4\nKategorie: Senioren\nICS-Link: https://www.test.naturfreunde-bielefeld.
 de/index.php?option=com_jem&view=event&id=3693:senioren-adventskaffee-um-1
 5-uhr-im-nfh-heepen-heeper-str-364\n
DTSTART;VALUE=DATE:20251217
DTEND;VALUE=DATE:20251218
SUMMARY:Senioren-Adventskaffee um 15 Uhr im NFH Heepen\, Heeper str. 364
URL:https://www.test.naturfreunde-bielefeld.de/index.php?option=com_jem&vie
 w=event&id=3693:senioren-adventskaffee-um-15-uhr-im-nfh-heepen-heeper-str-
 364
END:VEVENT
END:VCALENDAR
