
BEGIN:VCALENDAR
VERSION:2.0
PRODID:-//85.13.157.133//NONSGML kigkonsult.se iCalcreator 2.20//
CALSCALE:GREGORIAN
METHOD:PUBLISH
X-WR-TIMEZONE:Europe/Berlin
BEGIN:VEVENT
UID:event3694@NaturFreunde Bielefeld e.V.
DTSTAMP:20260419T145302Z
CATEGORIES:Jugend
DESCRIPTION:Weihnachtsmarkt im Meierhof. Für Alle. Infos bei der Naturfreun
 dejugend unter 31133 oder tbw@naturfreundejugend.de.\nKategorie: Jugend\nI
 CS-Link: https://www.test.naturfreunde-bielefeld.de/index.php?option=com_j
 em&view=event&id=3694:weihnachtsmarkt-im-meierhof-fa-1-4r-alle-infos-bei-d
 er-naturfreundejugend-unter-31133-oder-tbw-naturfreundejugend-de\n
DTSTART;VALUE=DATE:20251219
DTEND;VALUE=DATE:20251220
SUMMARY:Weihnachtsmarkt im Meierhof. Für Alle. Infos bei der Naturfreundeju
 gend unter 31133 oder tbw@naturfreundejugend.de.
URL:https://www.test.naturfreunde-bielefeld.de/index.php?option=com_jem&vie
 w=event&id=3694:weihnachtsmarkt-im-meierhof-fa-1-4r-alle-infos-bei-der-nat
 urfreundejugend-unter-31133-oder-tbw-naturfreundejugend-de
END:VEVENT
END:VCALENDAR
