
BEGIN:VCALENDAR
VERSION:2.0
PRODID:-//85.13.157.133//NONSGML kigkonsult.se iCalcreator 2.20//
CALSCALE:GREGORIAN
METHOD:PUBLISH
X-WR-TIMEZONE:Europe/Berlin
BEGIN:VEVENT
UID:event3696@NaturFreunde Bielefeld e.V.
DTSTAMP:20260419T164150Z
CATEGORIES:Wanderungen
DESCRIPTION:Traditionelle Weihnachtswanderung zum NFH Oerlinghausen\, \nKat
 egorie: Wanderungen\nICS-Link: https://www.test.naturfreunde-bielefeld.de/
 index.php?option=com_jem&view=event&id=3696:traditionelle-weihnachtswander
 ung-zum-nfh-oerlinghausen\n
DTSTART;VALUE=DATE:20251226
DTEND;VALUE=DATE:20251227
SUMMARY:Traditionelle Weihnachtswanderung zum NFH Oerlinghausen\, 
URL:https://www.test.naturfreunde-bielefeld.de/index.php?option=com_jem&vie
 w=event&id=3696:traditionelle-weihnachtswanderung-zum-nfh-oerlinghausen
END:VEVENT
END:VCALENDAR
