
BEGIN:VCALENDAR
VERSION:2.0
PRODID:-//85.13.157.133//NONSGML kigkonsult.se iCalcreator 2.20//
CALSCALE:GREGORIAN
METHOD:PUBLISH
X-WR-TIMEZONE:Europe/Berlin
BEGIN:VEVENT
UID:event3705@NaturFreunde Bielefeld e.V.
DTSTAMP:20260419T145857Z
CATEGORIES:Senioren
DESCRIPTION:Spielenachmittag ab 16.00 Uhr im NFH Heepen\, Heeper Str. 364\,
 \nKategorie: Senioren\nICS-Link: https://www.test.naturfreunde-bielefeld.d
 e/index.php?option=com_jem&view=event&id=3705:spielenachmittag-ab-16-00-uh
 r-im-nfh-heepen-heeper-str-364\n
DTSTART;VALUE=DATE:20260109
DTEND;VALUE=DATE:20260110
SUMMARY:Spielenachmittag ab 16.00 Uhr im NFH Heepen\, Heeper Str. 364\,
URL:https://www.test.naturfreunde-bielefeld.de/index.php?option=com_jem&vie
 w=event&id=3705:spielenachmittag-ab-16-00-uhr-im-nfh-heepen-heeper-str-364
END:VEVENT
END:VCALENDAR
