
BEGIN:VCALENDAR
VERSION:2.0
PRODID:-//85.13.157.133//NONSGML kigkonsult.se iCalcreator 2.20//
CALSCALE:GREGORIAN
METHOD:PUBLISH
X-WR-TIMEZONE:Europe/Berlin
BEGIN:VEVENT
UID:event3706@NaturFreunde Bielefeld e.V.
DTSTAMP:20260419T145240Z
CATEGORIES:Kultur
DESCRIPTION:Naturfreundefrühstück auf dem großen Boden!\nKategorie: Kultur
 \nICS-Link: https://www.test.naturfreunde-bielefeld.de/index.php?option=co
 m_jem&view=event&id=3706:naturfreundefruehstueck-auf-dem-grossen-boden\n
DTSTART;VALUE=DATE:20260110
DTEND;VALUE=DATE:20260111
SUMMARY:Naturfreundefrühstück auf dem großen Boden!
URL:https://www.test.naturfreunde-bielefeld.de/index.php?option=com_jem&vie
 w=event&id=3706:naturfreundefruehstueck-auf-dem-grossen-boden
END:VEVENT
END:VCALENDAR
