
BEGIN:VCALENDAR
VERSION:2.0
PRODID:-//85.13.157.133//NONSGML kigkonsult.se iCalcreator 2.20//
CALSCALE:GREGORIAN
METHOD:PUBLISH
X-WR-TIMEZONE:Europe/Berlin
BEGIN:VEVENT
UID:event3707@NaturFreunde Bielefeld e.V.
DTSTAMP:20260421T103908Z
CATEGORIES:Nordic Walking
DESCRIPTION:Winterfahrt auf der oberen Diemel oder Alme.\nKategorie: Nordic
  Walking\nICS-Link: https://www.test.naturfreunde-bielefeld.de/index.php?o
 ption=com_jem&view=event&id=3707:winterfahrt-auf-der-oberen-diemel-oder-al
 me\n
DTSTART;VALUE=DATE:20260112
DTEND;VALUE=DATE:20260113
SUMMARY:Winterfahrt auf der oberen Diemel oder Alme.
URL:https://www.test.naturfreunde-bielefeld.de/index.php?option=com_jem&vie
 w=event&id=3707:winterfahrt-auf-der-oberen-diemel-oder-alme
END:VEVENT
END:VCALENDAR
