
BEGIN:VCALENDAR
VERSION:2.0
PRODID:-//85.13.157.133//NONSGML kigkonsult.se iCalcreator 2.20//
CALSCALE:GREGORIAN
METHOD:PUBLISH
X-WR-TIMEZONE:Europe/Berlin
BEGIN:VEVENT
UID:event3708@NaturFreunde Bielefeld e.V.
DTSTAMP:20260419T150102Z
CATEGORIES:Kultur
DESCRIPTION:Seniorenspaziergang mit Annegret Höke zum Seekrug.\nKategorie: 
 Kultur\nICS-Link: https://www.test.naturfreunde-bielefeld.de/index.php?opt
 ion=com_jem&view=event&id=3708:seniorenspaziergang-mit-annegret-hoeke-zum-
 seekrug\n
DTSTART;VALUE=DATE:20260114
DTEND;VALUE=DATE:20260115
SUMMARY:Seniorenspaziergang mit Annegret Höke zum Seekrug.
URL:https://www.test.naturfreunde-bielefeld.de/index.php?option=com_jem&vie
 w=event&id=3708:seniorenspaziergang-mit-annegret-hoeke-zum-seekrug
END:VEVENT
END:VCALENDAR
