
BEGIN:VCALENDAR
VERSION:2.0
PRODID:-//85.13.157.133//NONSGML kigkonsult.se iCalcreator 2.20//
CALSCALE:GREGORIAN
METHOD:PUBLISH
X-WR-TIMEZONE:Europe/Berlin
BEGIN:VEVENT
UID:event3709@NaturFreunde Bielefeld e.V.
DTSTAMP:20260421T171257Z
CATEGORIES:Schneesport
DESCRIPTION:Jahresrückblick mit Elke Ehrlich. Fotos vorab gerne per Mail an
  elke-naturfreunde@unity-mail.de.\nKategorie: Schneesport\nICS-Link: https
 ://www.test.naturfreunde-bielefeld.de/index.php?option=com_jem&view=event&
 id=3709:jahresrueckblick-mit-elke-ehrlich-fotos-vorab-gerne-per-mail-an-el
 ke-naturfreunde-unity-mail-de\n
DTSTART;VALUE=DATE:20260116
DTEND;VALUE=DATE:20260117
SUMMARY:Jahresrückblick mit Elke Ehrlich. Fotos vorab gerne per Mail an elk
 e-naturfreunde@unity-mail.de.
URL:https://www.test.naturfreunde-bielefeld.de/index.php?option=com_jem&vie
 w=event&id=3709:jahresrueckblick-mit-elke-ehrlich-fotos-vorab-gerne-per-ma
 il-an-elke-naturfreunde-unity-mail-de
END:VEVENT
END:VCALENDAR
