
BEGIN:VCALENDAR
VERSION:2.0
PRODID:-//85.13.157.133//NONSGML kigkonsult.se iCalcreator 2.20//
CALSCALE:GREGORIAN
METHOD:PUBLISH
X-WR-TIMEZONE:Europe/Berlin
BEGIN:VEVENT
UID:event3711@NaturFreunde Bielefeld e.V.
DTSTAMP:20260419T181802Z
CATEGORIES:Senioren
DESCRIPTION:MYOG: Make your own gear. Outdoorequipment selber machen?\nKate
 gorie: Senioren\nICS-Link: https://www.test.naturfreunde-bielefeld.de/inde
 x.php?option=com_jem&view=event&id=3711:myog-make-your-own-gear-outdoorequ
 ipment-selber-machen\n
DTSTART;VALUE=DATE:20260123
DTEND;VALUE=DATE:20260124
SUMMARY:MYOG: Make your own gear. Outdoorequipment selber machen?
URL:https://www.test.naturfreunde-bielefeld.de/index.php?option=com_jem&vie
 w=event&id=3711:myog-make-your-own-gear-outdoorequipment-selber-machen
END:VEVENT
END:VCALENDAR
