
BEGIN:VCALENDAR
VERSION:2.0
PRODID:-//85.13.157.133//NONSGML kigkonsult.se iCalcreator 2.20//
CALSCALE:GREGORIAN
METHOD:PUBLISH
X-WR-TIMEZONE:Europe/Berlin
BEGIN:VEVENT
UID:event3713@NaturFreunde Bielefeld e.V.
DTSTAMP:20260419T163607Z
CATEGORIES:Senioren
DESCRIPTION:Entlang Deutschlands kürzestem Flusses von Paderborn bis Schloß
  Neuhaus und zurück\, ca. 15 km\,\nKategorie: Senioren\nICS-Link: https://
 www.test.naturfreunde-bielefeld.de/index.php?option=com_jem&view=event&id=
 3713:entlang-deutschlands-kuerzestem-flusses-von-paderborn-bis-schloss-neu
 haus-und-zurueck-ca-15-km\n
DTSTART;VALUE=DATE:20260124
DTEND;VALUE=DATE:20260125
SUMMARY:Entlang Deutschlands kürzestem Flusses von Paderborn bis Schloß Neu
 haus und zurück\, ca. 15 km\,
URL:https://www.test.naturfreunde-bielefeld.de/index.php?option=com_jem&vie
 w=event&id=3713:entlang-deutschlands-kuerzestem-flusses-von-paderborn-bis-
 schloss-neuhaus-und-zurueck-ca-15-km
END:VEVENT
END:VCALENDAR
