
BEGIN:VCALENDAR
VERSION:2.0
PRODID:-//85.13.157.133//NONSGML kigkonsult.se iCalcreator 2.20//
CALSCALE:GREGORIAN
METHOD:PUBLISH
X-WR-TIMEZONE:Europe/Berlin
BEGIN:VEVENT
UID:event3722@NaturFreunde Bielefeld e.V.
DTSTAMP:20260419T150151Z
CATEGORIES:Jugend
DESCRIPTION:'Bloody Business oder das zweite Gesicht'. Michael Seibt liest 
 aus seinem neuesten Jöllenbeck-Krimi.\; Wieder mit Musik von Harald. Begin
 n um 20 Uhr im Naturfreundehaus Heepen\, Heeper Str. 364.\nKategorie: Juge
 nd\nICS-Link: https://www.test.naturfreunde-bielefeld.de/index.php?option=
 com_jem&view=event&id=3722:bloody-business-oder-das-zweite-gesicht-michael
 -seibt-liest-aus-seinem-neuesten-joellenbeck-krimi-wieder-mit-musik-von-ha
 rald-beginn-um-20-uhr-im-naturfreundehaus-heepen-heeper-str-364\n
DTSTART;VALUE=DATE:20260213
DTEND;VALUE=DATE:20260214
SUMMARY:'Bloody Business oder das zweite Gesicht'. Michael Seibt liest aus 
 seinem neuesten Jöllenbeck-Krimi.\; Wieder mit Musik von Harald. Beginn um
  20 Uhr im Naturfreundehaus Heepen\, Heeper Str. 364.
URL:https://www.test.naturfreunde-bielefeld.de/index.php?option=com_jem&vie
 w=event&id=3722:bloody-business-oder-das-zweite-gesicht-michael-seibt-lies
 t-aus-seinem-neuesten-joellenbeck-krimi-wieder-mit-musik-von-harald-beginn
 -um-20-uhr-im-naturfreundehaus-heepen-heeper-str-364
END:VEVENT
END:VCALENDAR
