
BEGIN:VCALENDAR
VERSION:2.0
PRODID:-//85.13.157.133//NONSGML kigkonsult.se iCalcreator 2.20//
CALSCALE:GREGORIAN
METHOD:PUBLISH
X-WR-TIMEZONE:Europe/Berlin
BEGIN:VEVENT
UID:event3724@NaturFreunde Bielefeld e.V.
DTSTAMP:20260419T150019Z
CATEGORIES:Kanu
DESCRIPTION:Arbeitskreis Kultur und Touristik. Wir erstellen das Programm f
 ür die Monate Mai bis August.\nKategorie: Kanu\nICS-Link: https://www.test
 .naturfreunde-bielefeld.de/index.php?option=com_jem&view=event&id=3724:arb
 eitskreis-kultur-und-touristik-wir-erstellen-das-programm-fuer-die-monate-
 mai-bis-august\n
DTSTART;VALUE=DATE:20260220
DTEND;VALUE=DATE:20260221
SUMMARY:Arbeitskreis Kultur und Touristik. Wir erstellen das Programm für d
 ie Monate Mai bis August.
URL:https://www.test.naturfreunde-bielefeld.de/index.php?option=com_jem&vie
 w=event&id=3724:arbeitskreis-kultur-und-touristik-wir-erstellen-das-progra
 mm-fuer-die-monate-mai-bis-august
END:VEVENT
END:VCALENDAR
