
BEGIN:VCALENDAR
VERSION:2.0
PRODID:-//85.13.157.133//NONSGML kigkonsult.se iCalcreator 2.20//
CALSCALE:GREGORIAN
METHOD:PUBLISH
X-WR-TIMEZONE:Europe/Berlin
BEGIN:VEVENT
UID:event3726@NaturFreunde Bielefeld e.V.
DTSTAMP:20260421T140357Z
CATEGORIES:Kultur
DESCRIPTION:Auf dem Durbekesteig durch die Egge bei Altenbeken\, ca. 17\,5 
 km\,\nKategorie: Kultur\nICS-Link: https://www.test.naturfreunde-bielefeld
 .de/index.php?option=com_jem&view=event&id=3726:auf-dem-durbekesteig-durch
 -die-egge-bei-altenbeken-ca-17-5-km\n
DTSTART;VALUE=DATE:20260221
DTEND;VALUE=DATE:20260222
SUMMARY:Auf dem Durbekesteig durch die Egge bei Altenbeken\, ca. 17\,5 km\,
URL:https://www.test.naturfreunde-bielefeld.de/index.php?option=com_jem&vie
 w=event&id=3726:auf-dem-durbekesteig-durch-die-egge-bei-altenbeken-ca-17-5
 -km
END:VEVENT
END:VCALENDAR
