
BEGIN:VCALENDAR
VERSION:2.0
PRODID:-//85.13.157.133//NONSGML kigkonsult.se iCalcreator 2.20//
CALSCALE:GREGORIAN
METHOD:PUBLISH
X-WR-TIMEZONE:Europe/Berlin
BEGIN:VEVENT
UID:event3729@NaturFreunde Bielefeld e.V.
DTSTAMP:20260421T133302Z
CATEGORIES:Senioren
DESCRIPTION:Digital und trotzdem souverän. Smartphone und Computer ohne Goo
 gle\, Microsoft und Co.\nKategorie: Senioren\nICS-Link: https://www.test.n
 aturfreunde-bielefeld.de/index.php?option=com_jem&view=event&id=3729:digit
 al-und-trotzdem-souveraen-smartphone-und-computer-ohne-google-microsoft-un
 d-co\n
DTSTART;VALUE=DATE:20260227
DTEND;VALUE=DATE:20260228
SUMMARY:Digital und trotzdem souverän. Smartphone und Computer ohne Google\
 , Microsoft und Co.
URL:https://www.test.naturfreunde-bielefeld.de/index.php?option=com_jem&vie
 w=event&id=3729:digital-und-trotzdem-souveraen-smartphone-und-computer-ohn
 e-google-microsoft-und-co
END:VEVENT
END:VCALENDAR
