
BEGIN:VCALENDAR
VERSION:2.0
PRODID:-//85.13.157.133//NONSGML kigkonsult.se iCalcreator 2.20//
CALSCALE:GREGORIAN
METHOD:PUBLISH
X-WR-TIMEZONE:Europe/Berlin
BEGIN:VEVENT
UID:event3733@NaturFreunde Bielefeld e.V.
DTSTAMP:20260419T151120Z
CATEGORIES:Kultur
DESCRIPTION:Hinterlassenschaften Teil 2: Was wir unseren Nachfahren hinterl
 assen werden. \nKategorie: Kultur\nICS-Link: https://www.test.naturfreunde
 -bielefeld.de/index.php?option=com_jem&view=event&id=3733:hinterlassenscha
 ften-teil-2-was-wir-unseren-nachfahren-hinterlassen-werden\n
DTSTART;VALUE=DATE:20260306
DTEND;VALUE=DATE:20260307
SUMMARY:Hinterlassenschaften Teil 2: Was wir unseren Nachfahren hinterlasse
 n werden. 
URL:https://www.test.naturfreunde-bielefeld.de/index.php?option=com_jem&vie
 w=event&id=3733:hinterlassenschaften-teil-2-was-wir-unseren-nachfahren-hin
 terlassen-werden
END:VEVENT
END:VCALENDAR
