
BEGIN:VCALENDAR
VERSION:2.0
PRODID:-//85.13.157.133//NONSGML kigkonsult.se iCalcreator 2.20//
CALSCALE:GREGORIAN
METHOD:PUBLISH
X-WR-TIMEZONE:Europe/Berlin
BEGIN:VEVENT
UID:event3736@NaturFreunde Bielefeld e.V.
DTSTAMP:20260419T163959Z
CATEGORIES:Senioren
DESCRIPTION:Wie funktioniert kommunaler Klimaschutz?\nKategorie: Senioren\n
 ICS-Link: https://www.test.naturfreunde-bielefeld.de/index.php?option=com_
 jem&view=event&id=3736:wie-funktioniert-kommunaler-klimaschutz\n
DTSTART;VALUE=DATE:20260313
DTEND;VALUE=DATE:20260314
SUMMARY:Wie funktioniert kommunaler Klimaschutz?
URL:https://www.test.naturfreunde-bielefeld.de/index.php?option=com_jem&vie
 w=event&id=3736:wie-funktioniert-kommunaler-klimaschutz
END:VEVENT
END:VCALENDAR
