
BEGIN:VCALENDAR
VERSION:2.0
PRODID:-//85.13.157.133//NONSGML kigkonsult.se iCalcreator 2.20//
CALSCALE:GREGORIAN
METHOD:PUBLISH
X-WR-TIMEZONE:Europe/Berlin
BEGIN:VEVENT
UID:event3738@NaturFreunde Bielefeld e.V.
DTSTAMP:20260421T133403Z
CATEGORIES:Wanderungen
DESCRIPTION:Radtour ins lippische Hügelland\, Länge ca. 60 km\,\nKategorie:
  Wanderungen\nICS-Link: https://www.test.naturfreunde-bielefeld.de/index.p
 hp?option=com_jem&view=event&id=3738:radtour-ins-lippische-huegelland-laen
 ge-ca-60-km\n
DTSTART;VALUE=DATE:20260315
DTEND;VALUE=DATE:20260316
SUMMARY:Radtour ins lippische Hügelland\, Länge ca. 60 km\,
URL:https://www.test.naturfreunde-bielefeld.de/index.php?option=com_jem&vie
 w=event&id=3738:radtour-ins-lippische-huegelland-laenge-ca-60-km
END:VEVENT
END:VCALENDAR
