
BEGIN:VCALENDAR
VERSION:2.0
PRODID:-//85.13.157.133//NONSGML kigkonsult.se iCalcreator 2.20//
CALSCALE:GREGORIAN
METHOD:PUBLISH
X-WR-TIMEZONE:Europe/Berlin
BEGIN:VEVENT
UID:event3741@NaturFreunde Bielefeld e.V.
DTSTAMP:20260419T164044Z
CATEGORIES:Kanu
DESCRIPTION:Dem Wasserdrachen auf der Spur\, Weserhänge bei Höxter\, ca. 19
  km\,\nKategorie: Kanu\nICS-Link: https://www.test.naturfreunde-bielefeld.
 de/index.php?option=com_jem&view=event&id=3741:dem-wasserdrachen-auf-der-s
 pur-weserhaenge-bei-hoexter-ca-19-km\n
DTSTART;VALUE=DATE:20260321
DTEND;VALUE=DATE:20260322
SUMMARY:Dem Wasserdrachen auf der Spur\, Weserhänge bei Höxter\, ca. 19 km\
 ,
URL:https://www.test.naturfreunde-bielefeld.de/index.php?option=com_jem&vie
 w=event&id=3741:dem-wasserdrachen-auf-der-spur-weserhaenge-bei-hoexter-ca-
 19-km
END:VEVENT
END:VCALENDAR
