
BEGIN:VCALENDAR
VERSION:2.0
PRODID:-//85.13.157.133//NONSGML kigkonsult.se iCalcreator 2.20//
CALSCALE:GREGORIAN
METHOD:PUBLISH
X-WR-TIMEZONE:Europe/Berlin
BEGIN:VEVENT
UID:event3747@NaturFreunde Bielefeld e.V.
DTSTAMP:20260419T132737Z
CATEGORIES:Senioren
DESCRIPTION:11 bis 13 Uhr Osternspecial- Eltern-Kind-Bouldern.\nKategorie: 
 Senioren\nICS-Link: https://www.test.naturfreunde-bielefeld.de/index.php?o
 ption=com_jem&view=event&id=3747:11-bis-13-uhr-osternspecial-eltern-kind-b
 ouldern\n
DTSTART;VALUE=DATE:20260328
DTEND;VALUE=DATE:20260329
SUMMARY:11 bis 13 Uhr Osternspecial- Eltern-Kind-Bouldern.
URL:https://www.test.naturfreunde-bielefeld.de/index.php?option=com_jem&vie
 w=event&id=3747:11-bis-13-uhr-osternspecial-eltern-kind-bouldern
END:VEVENT
END:VCALENDAR
