
BEGIN:VCALENDAR
VERSION:2.0
PRODID:-//85.13.157.133//NONSGML kigkonsult.se iCalcreator 2.20//
CALSCALE:GREGORIAN
METHOD:PUBLISH
X-WR-TIMEZONE:Europe/Berlin
BEGIN:VEVENT
UID:event3748@NaturFreunde Bielefeld e.V.
DTSTAMP:20260419T132654Z
CATEGORIES:Jugend
DESCRIPTION:Wanderung durch den lippischen Wald\, Donoperteich\, Länge ca. 
 17 km\,\nKategorie: Jugend\nICS-Link: https://www.test.naturfreunde-bielef
 eld.de/index.php?option=com_jem&view=event&id=3748:wanderung-durch-den-lip
 pischen-wald-donoperteich-laenge-ca-17-km\n
DTSTART;VALUE=DATE:20260329
DTEND;VALUE=DATE:20260330
SUMMARY:Wanderung durch den lippischen Wald\, Donoperteich\, Länge ca. 17 k
 m\,
URL:https://www.test.naturfreunde-bielefeld.de/index.php?option=com_jem&vie
 w=event&id=3748:wanderung-durch-den-lippischen-wald-donoperteich-laenge-ca
 -17-km
END:VEVENT
END:VCALENDAR
