
BEGIN:VCALENDAR
VERSION:2.0
PRODID:-//85.13.157.133//NONSGML kigkonsult.se iCalcreator 2.20//
CALSCALE:GREGORIAN
METHOD:PUBLISH
X-WR-TIMEZONE:Europe/Berlin
BEGIN:VEVENT
UID:event3754@NaturFreunde Bielefeld e.V.
DTSTAMP:20260419T115630Z
CATEGORIES:Kultur
DESCRIPTION:Seniorenspaziergang mit Annegret Höke durch den Grünzug in Schi
 ldesche zu Cafe Lamm Westerfeldstr.\nKategorie: Kultur\nICS-Link: https://
 www.test.naturfreunde-bielefeld.de/index.php?option=com_jem&view=event&id=
 3754:seniorenspaziergang-mit-annegret-hoeke-durch-den-gruenzug-in-schildes
 che-zu-cafe-lamm-westerfeldstr\n
DTSTART;VALUE=DATE:20260415
DTEND;VALUE=DATE:20260416
SUMMARY:Seniorenspaziergang mit Annegret Höke durch den Grünzug in Schildes
 che zu Cafe Lamm Westerfeldstr.
URL:https://www.test.naturfreunde-bielefeld.de/index.php?option=com_jem&vie
 w=event&id=3754:seniorenspaziergang-mit-annegret-hoeke-durch-den-gruenzug-
 in-schildesche-zu-cafe-lamm-westerfeldstr
END:VEVENT
END:VCALENDAR
