
BEGIN:VCALENDAR
VERSION:2.0
PRODID:-//85.13.157.133//NONSGML kigkonsult.se iCalcreator 2.20//
CALSCALE:GREGORIAN
METHOD:PUBLISH
X-WR-TIMEZONE:Europe/Berlin
BEGIN:VEVENT
UID:event3759@NaturFreunde Bielefeld e.V.
DTSTAMP:20260419T150023Z
CATEGORIES:Kanu
DESCRIPTION:Tour auf der Wupper. Tagesausfahrt auf einem noch festzulegende
 n Abschnitt der Wupper.\nKategorie: Kanu\nICS-Link: https://www.test.natur
 freunde-bielefeld.de/index.php?option=com_jem&view=event&id=3759:tour-auf-
 der-wupper-tagesausfahrt-auf-einem-noch-festzulegenden-abschnitt-der-wuppe
 r\n
DTSTART;VALUE=DATE:20260418
DTEND;VALUE=DATE:20260419
SUMMARY:Tour auf der Wupper. Tagesausfahrt auf einem noch festzulegenden Ab
 schnitt der Wupper.
URL:https://www.test.naturfreunde-bielefeld.de/index.php?option=com_jem&vie
 w=event&id=3759:tour-auf-der-wupper-tagesausfahrt-auf-einem-noch-festzuleg
 enden-abschnitt-der-wupper
END:VEVENT
END:VCALENDAR
