
BEGIN:VCALENDAR
VERSION:2.0
PRODID:-//85.13.157.133//NONSGML kigkonsult.se iCalcreator 2.20//
CALSCALE:GREGORIAN
METHOD:PUBLISH
X-WR-TIMEZONE:Europe/Berlin
BEGIN:VEVENT
UID:event3746@NaturFreunde Bielefeld e.V.
DTSTAMP:20260419T133551Z
CATEGORIES:Jugend
DESCRIPTION:Feriencamp an der Ardèche. Wir vertiefen unsere Kenntnisse im W
 ildwasser.\nKategorie: Jugend\nICS-Link: https://www.test.naturfreunde-bie
 lefeld.de/index.php?option=com_jem&view=event&id=3746:feriencamp-an-der-ar
 deche-wir-vertiefen-unsere-kenntnisse-im-wildwasser\n
DTSTART;VALUE=DATE:20260328
DTEND;VALUE=DATE:20260413
SUMMARY:Feriencamp an der Ardèche. Wir vertiefen unsere Kenntnisse im Wildw
 asser.
URL:https://www.test.naturfreunde-bielefeld.de/index.php?option=com_jem&vie
 w=event&id=3746:feriencamp-an-der-ardeche-wir-vertiefen-unsere-kenntnisse-
 im-wildwasser
END:VEVENT
BEGIN:VEVENT
UID:event3746@NaturFreunde Bielefeld e.V.
DTSTAMP:20260419T133551Z
CATEGORIES:Jugend
DESCRIPTION:Feriencamp an der Ardèche. Wir vertiefen unsere Kenntnisse im W
 ildwasser.\nKategorie: Jugend\nICS-Link: https://www.test.naturfreunde-bie
 lefeld.de/index.php?option=com_jem&view=event&id=3746:feriencamp-an-der-ar
 deche-wir-vertiefen-unsere-kenntnisse-im-wildwasser\n
DTSTART;VALUE=DATE:20260401
DTEND;VALUE=DATE:20260413
SUMMARY:Feriencamp an der Ardèche. Wir vertiefen unsere Kenntnisse im Wildw
 asser.
URL:https://www.test.naturfreunde-bielefeld.de/index.php?option=com_jem&vie
 w=event&id=3746:feriencamp-an-der-ardeche-wir-vertiefen-unsere-kenntnisse-
 im-wildwasser
END:VEVENT
BEGIN:VEVENT
UID:event3746@NaturFreunde Bielefeld e.V.
DTSTAMP:20260419T133551Z
CATEGORIES:Jugend
DESCRIPTION:Feriencamp an der Ardèche. Wir vertiefen unsere Kenntnisse im W
 ildwasser.\nKategorie: Jugend\nICS-Link: https://www.test.naturfreunde-bie
 lefeld.de/index.php?option=com_jem&view=event&id=3746:feriencamp-an-der-ar
 deche-wir-vertiefen-unsere-kenntnisse-im-wildwasser\n
DTSTART;VALUE=DATE:20260402
DTEND;VALUE=DATE:20260413
SUMMARY:Feriencamp an der Ardèche. Wir vertiefen unsere Kenntnisse im Wildw
 asser.
URL:https://www.test.naturfreunde-bielefeld.de/index.php?option=com_jem&vie
 w=event&id=3746:feriencamp-an-der-ardeche-wir-vertiefen-unsere-kenntnisse-
 im-wildwasser
END:VEVENT
BEGIN:VEVENT
UID:event3746@NaturFreunde Bielefeld e.V.
DTSTAMP:20260419T133551Z
CATEGORIES:Jugend
DESCRIPTION:Feriencamp an der Ardèche. Wir vertiefen unsere Kenntnisse im W
 ildwasser.\nKategorie: Jugend\nICS-Link: https://www.test.naturfreunde-bie
 lefeld.de/index.php?option=com_jem&view=event&id=3746:feriencamp-an-der-ar
 deche-wir-vertiefen-unsere-kenntnisse-im-wildwasser\n
DTSTART;VALUE=DATE:20260403
DTEND;VALUE=DATE:20260413
SUMMARY:Feriencamp an der Ardèche. Wir vertiefen unsere Kenntnisse im Wildw
 asser.
URL:https://www.test.naturfreunde-bielefeld.de/index.php?option=com_jem&vie
 w=event&id=3746:feriencamp-an-der-ardeche-wir-vertiefen-unsere-kenntnisse-
 im-wildwasser
END:VEVENT
BEGIN:VEVENT
UID:event3746@NaturFreunde Bielefeld e.V.
DTSTAMP:20260419T133551Z
CATEGORIES:Jugend
DESCRIPTION:Feriencamp an der Ardèche. Wir vertiefen unsere Kenntnisse im W
 ildwasser.\nKategorie: Jugend\nICS-Link: https://www.test.naturfreunde-bie
 lefeld.de/index.php?option=com_jem&view=event&id=3746:feriencamp-an-der-ar
 deche-wir-vertiefen-unsere-kenntnisse-im-wildwasser\n
DTSTART;VALUE=DATE:20260404
DTEND;VALUE=DATE:20260413
SUMMARY:Feriencamp an der Ardèche. Wir vertiefen unsere Kenntnisse im Wildw
 asser.
URL:https://www.test.naturfreunde-bielefeld.de/index.php?option=com_jem&vie
 w=event&id=3746:feriencamp-an-der-ardeche-wir-vertiefen-unsere-kenntnisse-
 im-wildwasser
END:VEVENT
BEGIN:VEVENT
UID:event3746@NaturFreunde Bielefeld e.V.
DTSTAMP:20260419T133551Z
CATEGORIES:Jugend
DESCRIPTION:Feriencamp an der Ardèche. Wir vertiefen unsere Kenntnisse im W
 ildwasser.\nKategorie: Jugend\nICS-Link: https://www.test.naturfreunde-bie
 lefeld.de/index.php?option=com_jem&view=event&id=3746:feriencamp-an-der-ar
 deche-wir-vertiefen-unsere-kenntnisse-im-wildwasser\n
DTSTART;VALUE=DATE:20260405
DTEND;VALUE=DATE:20260413
SUMMARY:Feriencamp an der Ardèche. Wir vertiefen unsere Kenntnisse im Wildw
 asser.
URL:https://www.test.naturfreunde-bielefeld.de/index.php?option=com_jem&vie
 w=event&id=3746:feriencamp-an-der-ardeche-wir-vertiefen-unsere-kenntnisse-
 im-wildwasser
END:VEVENT
BEGIN:VEVENT
UID:event3746@NaturFreunde Bielefeld e.V.
DTSTAMP:20260419T133551Z
CATEGORIES:Jugend
DESCRIPTION:Feriencamp an der Ardèche. Wir vertiefen unsere Kenntnisse im W
 ildwasser.\nKategorie: Jugend\nICS-Link: https://www.test.naturfreunde-bie
 lefeld.de/index.php?option=com_jem&view=event&id=3746:feriencamp-an-der-ar
 deche-wir-vertiefen-unsere-kenntnisse-im-wildwasser\n
DTSTART;VALUE=DATE:20260406
DTEND;VALUE=DATE:20260413
SUMMARY:Feriencamp an der Ardèche. Wir vertiefen unsere Kenntnisse im Wildw
 asser.
URL:https://www.test.naturfreunde-bielefeld.de/index.php?option=com_jem&vie
 w=event&id=3746:feriencamp-an-der-ardeche-wir-vertiefen-unsere-kenntnisse-
 im-wildwasser
END:VEVENT
BEGIN:VEVENT
UID:event3746@NaturFreunde Bielefeld e.V.
DTSTAMP:20260419T133551Z
CATEGORIES:Jugend
DESCRIPTION:Feriencamp an der Ardèche. Wir vertiefen unsere Kenntnisse im W
 ildwasser.\nKategorie: Jugend\nICS-Link: https://www.test.naturfreunde-bie
 lefeld.de/index.php?option=com_jem&view=event&id=3746:feriencamp-an-der-ar
 deche-wir-vertiefen-unsere-kenntnisse-im-wildwasser\n
DTSTART;VALUE=DATE:20260407
DTEND;VALUE=DATE:20260413
SUMMARY:Feriencamp an der Ardèche. Wir vertiefen unsere Kenntnisse im Wildw
 asser.
URL:https://www.test.naturfreunde-bielefeld.de/index.php?option=com_jem&vie
 w=event&id=3746:feriencamp-an-der-ardeche-wir-vertiefen-unsere-kenntnisse-
 im-wildwasser
END:VEVENT
BEGIN:VEVENT
UID:event3746@NaturFreunde Bielefeld e.V.
DTSTAMP:20260419T133551Z
CATEGORIES:Jugend
DESCRIPTION:Feriencamp an der Ardèche. Wir vertiefen unsere Kenntnisse im W
 ildwasser.\nKategorie: Jugend\nICS-Link: https://www.test.naturfreunde-bie
 lefeld.de/index.php?option=com_jem&view=event&id=3746:feriencamp-an-der-ar
 deche-wir-vertiefen-unsere-kenntnisse-im-wildwasser\n
DTSTART;VALUE=DATE:20260408
DTEND;VALUE=DATE:20260413
SUMMARY:Feriencamp an der Ardèche. Wir vertiefen unsere Kenntnisse im Wildw
 asser.
URL:https://www.test.naturfreunde-bielefeld.de/index.php?option=com_jem&vie
 w=event&id=3746:feriencamp-an-der-ardeche-wir-vertiefen-unsere-kenntnisse-
 im-wildwasser
END:VEVENT
BEGIN:VEVENT
UID:event3746@NaturFreunde Bielefeld e.V.
DTSTAMP:20260419T133551Z
CATEGORIES:Jugend
DESCRIPTION:Feriencamp an der Ardèche. Wir vertiefen unsere Kenntnisse im W
 ildwasser.\nKategorie: Jugend\nICS-Link: https://www.test.naturfreunde-bie
 lefeld.de/index.php?option=com_jem&view=event&id=3746:feriencamp-an-der-ar
 deche-wir-vertiefen-unsere-kenntnisse-im-wildwasser\n
DTSTART;VALUE=DATE:20260409
DTEND;VALUE=DATE:20260413
SUMMARY:Feriencamp an der Ardèche. Wir vertiefen unsere Kenntnisse im Wildw
 asser.
URL:https://www.test.naturfreunde-bielefeld.de/index.php?option=com_jem&vie
 w=event&id=3746:feriencamp-an-der-ardeche-wir-vertiefen-unsere-kenntnisse-
 im-wildwasser
END:VEVENT
BEGIN:VEVENT
UID:event3746@NaturFreunde Bielefeld e.V.
DTSTAMP:20260419T133551Z
CATEGORIES:Jugend
DESCRIPTION:Feriencamp an der Ardèche. Wir vertiefen unsere Kenntnisse im W
 ildwasser.\nKategorie: Jugend\nICS-Link: https://www.test.naturfreunde-bie
 lefeld.de/index.php?option=com_jem&view=event&id=3746:feriencamp-an-der-ar
 deche-wir-vertiefen-unsere-kenntnisse-im-wildwasser\n
DTSTART;VALUE=DATE:20260410
DTEND;VALUE=DATE:20260413
SUMMARY:Feriencamp an der Ardèche. Wir vertiefen unsere Kenntnisse im Wildw
 asser.
URL:https://www.test.naturfreunde-bielefeld.de/index.php?option=com_jem&vie
 w=event&id=3746:feriencamp-an-der-ardeche-wir-vertiefen-unsere-kenntnisse-
 im-wildwasser
END:VEVENT
BEGIN:VEVENT
UID:event3746@NaturFreunde Bielefeld e.V.
DTSTAMP:20260419T133551Z
CATEGORIES:Jugend
DESCRIPTION:Feriencamp an der Ardèche. Wir vertiefen unsere Kenntnisse im W
 ildwasser.\nKategorie: Jugend\nICS-Link: https://www.test.naturfreunde-bie
 lefeld.de/index.php?option=com_jem&view=event&id=3746:feriencamp-an-der-ar
 deche-wir-vertiefen-unsere-kenntnisse-im-wildwasser\n
DTSTART;VALUE=DATE:20260411
DTEND;VALUE=DATE:20260413
SUMMARY:Feriencamp an der Ardèche. Wir vertiefen unsere Kenntnisse im Wildw
 asser.
URL:https://www.test.naturfreunde-bielefeld.de/index.php?option=com_jem&vie
 w=event&id=3746:feriencamp-an-der-ardeche-wir-vertiefen-unsere-kenntnisse-
 im-wildwasser
END:VEVENT
BEGIN:VEVENT
UID:event3746@NaturFreunde Bielefeld e.V.
DTSTAMP:20260419T133551Z
CATEGORIES:Jugend
DESCRIPTION:Feriencamp an der Ardèche. Wir vertiefen unsere Kenntnisse im W
 ildwasser.\nKategorie: Jugend\nICS-Link: https://www.test.naturfreunde-bie
 lefeld.de/index.php?option=com_jem&view=event&id=3746:feriencamp-an-der-ar
 deche-wir-vertiefen-unsere-kenntnisse-im-wildwasser\n
DTSTART;VALUE=DATE:20260412
DTEND;VALUE=DATE:20260413
SUMMARY:Feriencamp an der Ardèche. Wir vertiefen unsere Kenntnisse im Wildw
 asser.
URL:https://www.test.naturfreunde-bielefeld.de/index.php?option=com_jem&vie
 w=event&id=3746:feriencamp-an-der-ardeche-wir-vertiefen-unsere-kenntnisse-
 im-wildwasser
END:VEVENT
BEGIN:VEVENT
UID:event3749@NaturFreunde Bielefeld e.V.
DTSTAMP:20260419T133551Z
CATEGORIES:Jugend
DESCRIPTION:Gruppenleiter*innenschulung zum Erwerb der JuleiCa\,  Modul 2 i
 n Wuppertal\,\nKategorie: Jugend\nICS-Link: https://www.test.naturfreunde-
 bielefeld.de/index.php?option=com_jem&view=event&id=3749:gruppenleiter-inn
 enschulung-zum-erwerb-der-juleica-modul-2-in-wuppertal\n
DTSTART;VALUE=DATE:20260330
DTEND;VALUE=DATE:20260404
SUMMARY:Gruppenleiter*innenschulung zum Erwerb der JuleiCa\,  Modul 2 in Wu
 ppertal\,
URL:https://www.test.naturfreunde-bielefeld.de/index.php?option=com_jem&vie
 w=event&id=3749:gruppenleiter-innenschulung-zum-erwerb-der-juleica-modul-2
 -in-wuppertal
END:VEVENT
BEGIN:VEVENT
UID:event3749@NaturFreunde Bielefeld e.V.
DTSTAMP:20260419T133551Z
CATEGORIES:Jugend
DESCRIPTION:Gruppenleiter*innenschulung zum Erwerb der JuleiCa\,  Modul 2 i
 n Wuppertal\,\nKategorie: Jugend\nICS-Link: https://www.test.naturfreunde-
 bielefeld.de/index.php?option=com_jem&view=event&id=3749:gruppenleiter-inn
 enschulung-zum-erwerb-der-juleica-modul-2-in-wuppertal\n
DTSTART;VALUE=DATE:20260401
DTEND;VALUE=DATE:20260404
SUMMARY:Gruppenleiter*innenschulung zum Erwerb der JuleiCa\,  Modul 2 in Wu
 ppertal\,
URL:https://www.test.naturfreunde-bielefeld.de/index.php?option=com_jem&vie
 w=event&id=3749:gruppenleiter-innenschulung-zum-erwerb-der-juleica-modul-2
 -in-wuppertal
END:VEVENT
BEGIN:VEVENT
UID:event3749@NaturFreunde Bielefeld e.V.
DTSTAMP:20260419T133551Z
CATEGORIES:Jugend
DESCRIPTION:Gruppenleiter*innenschulung zum Erwerb der JuleiCa\,  Modul 2 i
 n Wuppertal\,\nKategorie: Jugend\nICS-Link: https://www.test.naturfreunde-
 bielefeld.de/index.php?option=com_jem&view=event&id=3749:gruppenleiter-inn
 enschulung-zum-erwerb-der-juleica-modul-2-in-wuppertal\n
DTSTART;VALUE=DATE:20260402
DTEND;VALUE=DATE:20260404
SUMMARY:Gruppenleiter*innenschulung zum Erwerb der JuleiCa\,  Modul 2 in Wu
 ppertal\,
URL:https://www.test.naturfreunde-bielefeld.de/index.php?option=com_jem&vie
 w=event&id=3749:gruppenleiter-innenschulung-zum-erwerb-der-juleica-modul-2
 -in-wuppertal
END:VEVENT
BEGIN:VEVENT
UID:event3749@NaturFreunde Bielefeld e.V.
DTSTAMP:20260419T133551Z
CATEGORIES:Jugend
DESCRIPTION:Gruppenleiter*innenschulung zum Erwerb der JuleiCa\,  Modul 2 i
 n Wuppertal\,\nKategorie: Jugend\nICS-Link: https://www.test.naturfreunde-
 bielefeld.de/index.php?option=com_jem&view=event&id=3749:gruppenleiter-inn
 enschulung-zum-erwerb-der-juleica-modul-2-in-wuppertal\n
DTSTART;VALUE=DATE:20260403
DTEND;VALUE=DATE:20260404
SUMMARY:Gruppenleiter*innenschulung zum Erwerb der JuleiCa\,  Modul 2 in Wu
 ppertal\,
URL:https://www.test.naturfreunde-bielefeld.de/index.php?option=com_jem&vie
 w=event&id=3749:gruppenleiter-innenschulung-zum-erwerb-der-juleica-modul-2
 -in-wuppertal
END:VEVENT
END:VCALENDAR
