
BEGIN:VCALENDAR
VERSION:2.0
PRODID:-//85.13.157.133//NONSGML kigkonsult.se iCalcreator 2.20//
CALSCALE:GREGORIAN
METHOD:PUBLISH
X-WR-TIMEZONE:Europe/Berlin
BEGIN:VEVENT
UID:event1179@NaturFreunde Bielefeld e.V.
DTSTAMP:20260420T011528Z
CATEGORIES:Wanderungen
DESCRIPTION:Wanderung vom Schildhof nach Halle\nKategorie: Wanderungen\nICS
 -Link: https://www.test.naturfreunde-bielefeld.de/index.php?option=com_jem
 &view=event&id=1179:wanderung-vom-schildhof-nach-halle\n
DTSTART;VALUE=DATE:20241123
DTEND;VALUE=DATE:20241124
SUMMARY:Wanderung vom Schildhof nach Halle
URL:https://www.test.naturfreunde-bielefeld.de/index.php?option=com_jem&vie
 w=event&id=1179:wanderung-vom-schildhof-nach-halle
END:VEVENT
END:VCALENDAR
