
BEGIN:VCALENDAR
VERSION:2.0
PRODID:-//85.13.157.133//NONSGML kigkonsult.se iCalcreator 2.20//
CALSCALE:GREGORIAN
METHOD:PUBLISH
X-WR-TIMEZONE:Europe/Berlin
BEGIN:VEVENT
UID:event1199@NaturFreunde Bielefeld e.V.
DTSTAMP:20260421T124444Z
CATEGORIES:Wanderungen
DESCRIPTION:Traditionelle Weihnachtswanderung zum NFH Oerlinghausen\nKatego
 rie: Wanderungen\nICS-Link: https://www.test.naturfreunde-bielefeld.de/ind
 ex.php?option=com_jem&view=event&id=1199:traditionelle-weihnachtswanderung
 -zum-nfh-oerlinghausen\n
DTSTART;VALUE=DATE:20241226
DTEND;VALUE=DATE:20241227
SUMMARY:Traditionelle Weihnachtswanderung zum NFH Oerlinghausen
URL:https://www.test.naturfreunde-bielefeld.de/index.php?option=com_jem&vie
 w=event&id=1199:traditionelle-weihnachtswanderung-zum-nfh-oerlinghausen
END:VEVENT
END:VCALENDAR
