
BEGIN:VCALENDAR
VERSION:2.0
PRODID:-//85.13.157.133//NONSGML kigkonsult.se iCalcreator 2.20//
CALSCALE:GREGORIAN
METHOD:PUBLISH
X-WR-TIMEZONE:Europe/Berlin
BEGIN:VEVENT
UID:event1563@NaturFreunde Bielefeld e.V.
DTSTAMP:20260419T220723Z
CATEGORIES:Senioren
DESCRIPTION:Senioren-Kaffeeklön\nKategorie: Senioren\nICS-Link: https://www
 .test.naturfreunde-bielefeld.de/index.php?option=com_jem&view=event&id=156
 3:senioren-kaffeekloen\n
DTSTART;VALUE=DATE:20241204
DTEND;VALUE=DATE:20241205
SUMMARY:Senioren-Kaffeeklön
URL:https://www.test.naturfreunde-bielefeld.de/index.php?option=com_jem&vie
 w=event&id=1563:senioren-kaffeekloen
END:VEVENT
END:VCALENDAR
