
BEGIN:VCALENDAR
VERSION:2.0
PRODID:-//85.13.157.133//NONSGML kigkonsult.se iCalcreator 2.20//
CALSCALE:GREGORIAN
METHOD:PUBLISH
X-WR-TIMEZONE:Europe/Berlin
BEGIN:VEVENT
UID:event1570@NaturFreunde Bielefeld e.V.
DTSTAMP:20260419T220416Z
CATEGORIES:Bouldern
DESCRIPTION:Advents-Eltern-Kind Bouldern\nKategorie: Bouldern\nICS-Link: ht
 tps://www.test.naturfreunde-bielefeld.de/index.php?option=com_jem&view=eve
 nt&id=1570:advents-eltern-kind-bouldern\n
DTSTART;VALUE=DATE:20241207
DTEND;VALUE=DATE:20241208
SUMMARY:Advents-Eltern-Kind Bouldern
URL:https://www.test.naturfreunde-bielefeld.de/index.php?option=com_jem&vie
 w=event&id=1570:advents-eltern-kind-bouldern
END:VEVENT
END:VCALENDAR
