
BEGIN:VCALENDAR
VERSION:2.0
PRODID:-//85.13.157.133//NONSGML kigkonsult.se iCalcreator 2.20//
CALSCALE:GREGORIAN
METHOD:PUBLISH
X-WR-TIMEZONE:Europe/Berlin
BEGIN:VEVENT
UID:event1573@NaturFreunde Bielefeld e.V.
DTSTAMP:20260420T011709Z
CATEGORIES:Nordic Walking
DESCRIPTION:Nordic-Walking auf der Lieblingsstrecke\nKategorie: Nordic Walk
 ing\nICS-Link: https://www.test.naturfreunde-bielefeld.de/index.php?option
 =com_jem&view=event&id=1573:nordic-walking-auf-der-lieblingsstrecke\n
DTSTART;VALUE=DATE:20241215
DTEND;VALUE=DATE:20241216
SUMMARY:Nordic-Walking auf der Lieblingsstrecke
URL:https://www.test.naturfreunde-bielefeld.de/index.php?option=com_jem&vie
 w=event&id=1573:nordic-walking-auf-der-lieblingsstrecke
END:VEVENT
END:VCALENDAR
