
BEGIN:VCALENDAR
VERSION:2.0
PRODID:-//85.13.157.133//NONSGML kigkonsult.se iCalcreator 2.20//
CALSCALE:GREGORIAN
METHOD:PUBLISH
X-WR-TIMEZONE:Europe/Berlin
BEGIN:VEVENT
UID:event1574@NaturFreunde Bielefeld e.V.
DTSTAMP:20260420T011350Z
CATEGORIES:Jugend
DESCRIPTION:Winter-SeSon: Upcycling-Geschenke und Co\nKategorie: Jugend\nIC
 S-Link: https://www.test.naturfreunde-bielefeld.de/index.php?option=com_je
 m&view=event&id=1574:winter-seson-upcycling-geschenke-und-co\n
DTSTART;VALUE=DATE:20241215
DTEND;VALUE=DATE:20241216
SUMMARY:Winter-SeSon: Upcycling-Geschenke und Co
URL:https://www.test.naturfreunde-bielefeld.de/index.php?option=com_jem&vie
 w=event&id=1574:winter-seson-upcycling-geschenke-und-co
END:VEVENT
END:VCALENDAR
