
BEGIN:VCALENDAR
VERSION:2.0
PRODID:-//85.13.157.133//NONSGML kigkonsult.se iCalcreator 2.20//
CALSCALE:GREGORIAN
METHOD:PUBLISH
X-WR-TIMEZONE:Europe/Berlin
BEGIN:VEVENT
UID:event1582@NaturFreunde Bielefeld e.V.
DTSTAMP:20260420T042402Z
CATEGORIES:Computer
DESCRIPTION:Computertreff\nKategorie: Computer\nICS-Link: https://www.test.
 naturfreunde-bielefeld.de/index.php?option=com_jem&view=event&id=1582:comp
 utertreff\n
DTSTART;VALUE=DATE:20250207
DTEND;VALUE=DATE:20250208
SUMMARY:Computertreff
URL:https://www.test.naturfreunde-bielefeld.de/index.php?option=com_jem&vie
 w=event&id=1582:computertreff
END:VEVENT
END:VCALENDAR
