
BEGIN:VCALENDAR
VERSION:2.0
PRODID:-//85.13.157.133//NONSGML kigkonsult.se iCalcreator 2.20//
CALSCALE:GREGORIAN
METHOD:PUBLISH
X-WR-TIMEZONE:Europe/Berlin
BEGIN:VEVENT
UID:event1608@NaturFreunde Bielefeld e.V.
DTSTAMP:20260421T133635Z
CATEGORIES:Wanderungen
DESCRIPTION:Kurzwanderung auf dem Patthorster Hexenpatt\nKategorie: Wanderu
 ngen\nICS-Link: https://www.test.naturfreunde-bielefeld.de/index.php?optio
 n=com_jem&view=event&id=1608:kurzwanderung-auf-dem-patthorster-hexenpatt\n
DTSTART;VALUE=DATE:20250105
DTEND;VALUE=DATE:20250106
SUMMARY:Kurzwanderung auf dem Patthorster Hexenpatt
URL:https://www.test.naturfreunde-bielefeld.de/index.php?option=com_jem&vie
 w=event&id=1608:kurzwanderung-auf-dem-patthorster-hexenpatt
END:VEVENT
END:VCALENDAR
