
BEGIN:VCALENDAR
VERSION:2.0
PRODID:-//85.13.157.133//NONSGML kigkonsult.se iCalcreator 2.20//
CALSCALE:GREGORIAN
METHOD:PUBLISH
X-WR-TIMEZONE:Europe/Berlin
BEGIN:VEVENT
UID:event1611@NaturFreunde Bielefeld e.V.
DTSTAMP:20260422T103843Z
CATEGORIES:Nordic Walking
DESCRIPTION:Nordic Walking am NFH Meierho\nKategorie: Nordic Walking\nICS-L
 ink: https://www.test.naturfreunde-bielefeld.de/index.php?option=com_jem&v
 iew=event&id=1611:nordic-walking-am-nfh-meierho\n
DTSTART;VALUE=DATE:20250216
DTEND;VALUE=DATE:20250217
SUMMARY:Nordic Walking am NFH Meierho
URL:https://www.test.naturfreunde-bielefeld.de/index.php?option=com_jem&vie
 w=event&id=1611:nordic-walking-am-nfh-meierho
END:VEVENT
END:VCALENDAR
