
BEGIN:VCALENDAR
VERSION:2.0
PRODID:-//85.13.157.133//NONSGML kigkonsult.se iCalcreator 2.20//
CALSCALE:GREGORIAN
METHOD:PUBLISH
X-WR-TIMEZONE:Europe/Berlin
BEGIN:VEVENT
UID:event1615@NaturFreunde Bielefeld e.V.
DTSTAMP:20260420T093643Z
CATEGORIES:Wanderungen
DESCRIPTION:Rundwanderung auf Emmerweg und Hagebuttenrunde\nKategorie: Wand
 erungen\nICS-Link: https://www.test.naturfreunde-bielefeld.de/index.php?op
 tion=com_jem&view=event&id=1615:rundwanderung-auf-emmerweg-und-hagebuttenr
 unde\n
DTSTART;VALUE=DATE:20250329
DTEND;VALUE=DATE:20250330
SUMMARY:Rundwanderung auf Emmerweg und Hagebuttenrunde
URL:https://www.test.naturfreunde-bielefeld.de/index.php?option=com_jem&vie
 w=event&id=1615:rundwanderung-auf-emmerweg-und-hagebuttenrunde
END:VEVENT
END:VCALENDAR
